BEGIN:VCALENDAR
PRODID:-//github.com/rianjs/ical.net//NONSGML ical.net 4.0//EN
VERSION:2.0
BEGIN:VEVENT
DTEND:20210720T135959Z
DTSTAMP:20210223T044716Z
DTSTART:20210704T140000Z
LOCATION:ATC Building\, Swinburne University of Technology
SEQUENCE:1
STATUS:CONFIRMED
SUMMARY:2021 Camberwell Art Show
UID:f9d5d891-6173-4a79-ac1c-d776f7164191-637610040000000000
END:VEVENT
END:VCALENDAR
